BEGIN:VCALENDAR
VERSION:2.0
PRODID:-//Tukios.com/
BEGIN:VEVENT
UID:1fc2924f-67d4-4f87-ab7f-833935317c00@www.loomisfuneralhomes.com
DTSTAMP:20260424T192046Z
DTSTART:20260501T163000Z
DTEND:20260501T173000Z
SUMMARY:Graveside Service
DESCRIPTION:
URL:https://www.loomisfuneralhomes.com/obituaries/shelton-savage
LOCATION:Edgewood Greenwood Cemetery 141 Edgewood Drive  Apopka FL 32703
GEO:28.6752542;-81.5040153
END:VEVENT
END:VCALENDAR