BEGIN:VCALENDAR
VERSION:2.0
PRODID:-//Tukios.com/
BEGIN:VEVENT
UID:c84f77b3-4e61-4430-a963-fadd65a4b5f0@www.loomisfuneralhomes.com
DTSTAMP:20260424T192022Z
DTSTART:20260501T150000Z
DTEND:20260501T160000Z
SUMMARY:Funeral Service
DESCRIPTION:
URL:https://www.loomisfuneralhomes.com/obituaries/shelton-savage
LOCATION:Loomis Funeral Home 420 West Main Street  Apopka FL 32712
GEO:28.6783226;-81.5206588
END:VEVENT
END:VCALENDAR