BEGIN:VCALENDAR
VERSION:2.0
PRODID:-//Tukios.com/
BEGIN:VEVENT
UID:10b4c2a2-6d9f-4044-bc7a-4831ecf5005b@www.loomisfuneralhomes.com
DTSTAMP:20260424T192100Z
DTSTART:20260501T140000Z
DTEND:20260501T150000Z
SUMMARY:Viewing
DESCRIPTION:
URL:https://www.loomisfuneralhomes.com/obituaries/shelton-savage
LOCATION:Loomis Funeral Home 420 West Main Street  Apopka FL 32712
GEO:28.6783226;-81.5206588
END:VEVENT
END:VCALENDAR