BEGIN:VCALENDAR
VERSION:2.0
PRODID:-//Tukios.com/
BEGIN:VEVENT
UID:cd4d64e7-5eaf-46ec-a67f-66aa572f0f51@www.loomisfuneralhomes.com
DTSTAMP:20260422T161706Z
DTSTART:20260428T133000Z
DTEND:20260428T140000Z
SUMMARY:Burial
DESCRIPTION:
URL:https://www.loomisfuneralhomes.com/obituaries/rooney-thomas-sr
LOCATION: 5525 U.S. 1  Mims FL 32754
GEO:28.7582393;-80.8640699
END:VEVENT
END:VCALENDAR