BEGIN:VCALENDAR
VERSION:2.0
PRODID:-//Tukios.com/
BEGIN:VEVENT
UID:ded99eab-8234-4082-86de-d5e3136838ea@www.loomisfuneralhomes.com
DTSTAMP:20260421T081938Z
DTSTART:20260227T190000Z
DTEND:20260227T200000Z
SUMMARY:Celebration of Life
DESCRIPTION:
URL:https://www.loomisfuneralhomes.com/obituaries/richard-loker-sr
LOCATION:Renewal at Rolling Hills Church 4407 West Orange Blossom Trail  
	Zellwood FL 32798
GEO:28.7158067;-81.5865236
END:VEVENT
END:VCALENDAR