BEGIN:VCALENDAR
VERSION:2.0
PRODID:-//Tukios.com/
BEGIN:VEVENT
UID:cf3baa6e-3919-4c66-809b-2bbb651e9595@www.loomisfuneralhomes.com
DTSTAMP:20260420T234145Z
DTSTART:20260425T150000Z
DTEND:20260425T154500Z
SUMMARY:Funeral Service
DESCRIPTION:
URL:https://www.loomisfuneralhomes.com/obituaries/jennifer-beasley
LOCATION: 611 West Avenue  Ocoee FL 34761
GEO:28.5780511;-81.5374322
END:VEVENT
END:VCALENDAR