BEGIN:VCALENDAR
VERSION:2.0
PRODID:-//Tukios.com/
BEGIN:VEVENT
UID:14822694-c42b-40d4-80b5-bb8fb0ef6423@www.loomisfuneralhomes.com
DTSTAMP:20260420T234408Z
DTSTART:20260424T210000Z
DTEND:20260425T000000Z
SUMMARY:Visitation
DESCRIPTION:
URL:https://www.loomisfuneralhomes.com/obituaries/jennifer-beasley
LOCATION: 420 W Main St  Apopka FL 32712
GEO:28.6783226;-81.5206588
END:VEVENT
END:VCALENDAR