BEGIN:VCALENDAR
VERSION:2.0
PRODID:-//Tukios.com/
BEGIN:VEVENT
UID:81b2302c-dfef-4240-aa69-97cde66207a4@www.loomisfuneralhomes.com
DTSTAMP:20260420T205654Z
DTSTART:20260425T170000Z
DTEND:20260425T180000Z
SUMMARY:Celebration of Life
DESCRIPTION:
URL:https://www.loomisfuneralhomes.com/obituaries/dr-paul-howell
LOCATION:First Baptist Mount Dora 1000 East 1st Avenue  Mount Dora FL 
	32757
GEO:28.7961354;-81.6354314
END:VEVENT
END:VCALENDAR